BEGIN:VCALENDAR
VERSION:2.0
PRODID:-//Washington Pavilion - ECPv6.15.15//NONSGML v1.0//EN
CALSCALE:GREGORIAN
METHOD:PUBLISH
X-ORIGINAL-URL:https://www.washingtonpavilion.org
X-WR-CALDESC:Events for Washington Pavilion
REFRESH-INTERVAL;VALUE=DURATION:PT1H
X-Robots-Tag:noindex
X-PUBLISHED-TTL:PT1H
BEGIN:VTIMEZONE
TZID:America/Chicago
BEGIN:DAYLIGHT
TZOFFSETFROM:-0600
TZOFFSETTO:-0500
TZNAME:CDT
DTSTART:20240310T080000
END:DAYLIGHT
BEGIN:STANDARD
TZOFFSETFROM:-0500
TZOFFSETTO:-0600
TZNAME:CST
DTSTART:20241103T070000
END:STANDARD
BEGIN:DAYLIGHT
TZOFFSETFROM:-0600
TZOFFSETTO:-0500
TZNAME:CDT
DTSTART:20250309T080000
END:DAYLIGHT
BEGIN:STANDARD
TZOFFSETFROM:-0500
TZOFFSETTO:-0600
TZNAME:CST
DTSTART:20251102T070000
END:STANDARD
BEGIN:DAYLIGHT
TZOFFSETFROM:-0600
TZOFFSETTO:-0500
TZNAME:CDT
DTSTART:20260308T080000
END:DAYLIGHT
BEGIN:STANDARD
TZOFFSETFROM:-0500
TZOFFSETTO:-0600
TZNAME:CST
DTSTART:20261101T070000
END:STANDARD
BEGIN:DAYLIGHT
TZOFFSETFROM:-0600
TZOFFSETTO:-0500
TZNAME:CDT
DTSTART:20270314T080000
END:DAYLIGHT
BEGIN:STANDARD
TZOFFSETFROM:-0500
TZOFFSETTO:-0600
TZNAME:CST
DTSTART:20271107T070000
END:STANDARD
END:VTIMEZONE
BEGIN:VTIMEZONE
TZID:UTC
BEGIN:STANDARD
TZOFFSETFROM:+0000
TZOFFSETTO:+0000
TZNAME:UTC
DTSTART:20240101T000000
END:STANDARD
END:VTIMEZONE
BEGIN:VEVENT
DTSTART;VALUE=DATE:20260117
DTEND;VALUE=DATE:20260118
DTSTAMP:20260422T014224
CREATED:20251015T211007Z
LAST-MODIFIED:20251210T213238Z
UID:10000173-1768608000-1768694399@www.washingtonpavilion.org
SUMMARY:Wild About Science: Turtles and Tortoises
DESCRIPTION:This winter\, let curiosity run wild! In collaboration with the Great Plains Zoo and Butterfly House & Aquarium\, our Wild About Science series brings live animals and family fun together one Saturday a month from November through March. \nSlow and steady wins the day! Get up close with turtles and tortoises as you learn about their shells\, habitats and surprising abilities. The Wild About Science series brings these amazing reptiles to life with hands-on activities\, live animal encounters and expert insights from the Great Plains Zoo and Butterfly House & Aquarium. \nIncluded with museum admission — free for members! \n11 a.m.–1 p.m. | Avera Stage Science\, third floor of the Kirby Science Discovery Center
URL:https://www.washingtonpavilion.org/event/wild-about-science-turtles-and-tortoises/
LOCATION:Washington Pavilion\, 301 S Main Ave\, Sioux Falls\, SD\, 57104\, United States
CATEGORIES:Special Events,Wild About Science
ATTACH;FMTTYPE=image/jpeg:https://www.washingtonpavilion.org/wp-content/uploads/2025/10/Thumbnail-Wild-About-Science2.jpg
END:VEVENT
BEGIN:VEVENT
DTSTART;VALUE=DATE:20251231
DTEND;VALUE=DATE:20260101
DTSTAMP:20260422T014224
CREATED:20251215T191602Z
LAST-MODIFIED:20251218T180728Z
UID:10000204-1767139200-1767225599@www.washingtonpavilion.org
SUMMARY:Noon Year’s Eve
DESCRIPTION:Kick off 2026 early with a Noon Year’s Eve celebration at the Kirby Science Discovery Center\, featuring a festive countdown and a balloon drop with hundreds of balloons.
URL:https://www.washingtonpavilion.org/event/noon-years-eve/
LOCATION:Kirby Science Discovery Center\, 301 S Main Ave\, Sioux Falls\, SD\, 57104\, United States
CATEGORIES:Special Events
ATTACH;FMTTYPE=image/jpeg:https://www.washingtonpavilion.org/wp-content/uploads/2025/12/Noon-Years-Eve-1080x1080-1.jpg
END:VEVENT
BEGIN:VEVENT
DTSTART;VALUE=DATE:20251220
DTEND;VALUE=DATE:20251221
DTSTAMP:20260422T014224
CREATED:20251015T210501Z
LAST-MODIFIED:20260312T194404Z
UID:10000172-1766188800-1766275199@www.washingtonpavilion.org
SUMMARY:Wild About Science: Nocturnal Animals
DESCRIPTION:This winter\, let curiosity run wild! In collaboration with the Great Plains Zoo and Butterfly House & Aquarium\, our Wild About Science series brings live animals and family fun together one Saturday a month from November through March. \nDiscover the creatures that thrive after dark! From owls to other night-loving animals\, this Wild About Science session introduces families to the secret lives of nocturnal species. See how these animals navigate the night and explore their adaptations with live demonstrations and interactive learning led by Great Plains Zoo and Butterfly House & Aquarium experts. \nIncluded with museum admission — free for members! \n11 a.m.–1 p.m. | Avera Stage Science\, third floor of the Kirby Science Discovery Center
URL:https://www.washingtonpavilion.org/event/wild-about-science-nocturnal-animals/
LOCATION:Washington Pavilion\, 301 S Main Ave\, Sioux Falls\, SD\, 57104\, United States
CATEGORIES:Special Events,Wild About Science
ATTACH;FMTTYPE=image/jpeg:https://www.washingtonpavilion.org/wp-content/uploads/2025/10/Thumbnail-Wild-About-Science3.jpg
END:VEVENT
BEGIN:VEVENT
DTSTART;VALUE=DATE:20251220
DTEND;VALUE=DATE:20251221
DTSTAMP:20260422T014224
CREATED:20251111T204151Z
LAST-MODIFIED:20251114T164504Z
UID:10000186-1766188800-1766275199@www.washingtonpavilion.org
SUMMARY:Meet Santa
DESCRIPTION:December 20\, 2025 | 10 a.m. – 4 p.m.*\nThird Floor Lobby\nTell Santa your wish list and take photos. Bring the whole family and your camera to see Sioux Falls Santa at your Washington Pavilion. \n*Santa will be taking a 30-minute lunch break from 1-1:30 p.m. \nEnhance your fun and click here to learn about more of our holiday offerings!
URL:https://www.washingtonpavilion.org/event/meet-santa-december-20/
LOCATION:Washington Pavilion\, 301 S Main Ave\, Sioux Falls\, SD\, 57104\, United States
CATEGORIES:Holiday Events & Specials,Special Events
ATTACH;FMTTYPE=image/jpeg:https://www.washingtonpavilion.org/wp-content/uploads/2025/11/5Santa.jpg
END:VEVENT
BEGIN:VEVENT
DTSTART;VALUE=DATE:20251213
DTEND;VALUE=DATE:20251214
DTSTAMP:20260422T014224
CREATED:20251111T170259Z
LAST-MODIFIED:20260210T152113Z
UID:10000185-1765584000-1765670399@www.washingtonpavilion.org
SUMMARY:Meet Santa
DESCRIPTION:December 13\, 2025 | 10 a.m. – 4 p.m.*\nThird Floor Lobby\nTell Santa your wish list and take photos. Bring the whole family and your camera to see Sioux Falls Santa at your Washington Pavilion. \nKeep your eyes peeled… a certain green visitor may just stop by for some holiday mischief\, too! \n*Santa will be taking a 30-minute lunch break from 1-1:30 p.m. \nEnhance your fun and click here to learn about more of our holiday offerings!
URL:https://www.washingtonpavilion.org/event/meet-santa-december-13/
LOCATION:Washington Pavilion\, 301 S Main Ave\, Sioux Falls\, SD\, 57104\, United States
CATEGORIES:Holiday Events & Specials,Special Events
ATTACH;FMTTYPE=image/jpeg:https://www.washingtonpavilion.org/wp-content/uploads/2025/11/4Santa.jpg
END:VEVENT
BEGIN:VEVENT
DTSTART;VALUE=DATE:20251212
DTEND;VALUE=DATE:20251213
DTSTAMP:20260422T014224
CREATED:20251203T225211Z
LAST-MODIFIED:20251212T154041Z
UID:10000201-1765497600-1765583999@www.washingtonpavilion.org
SUMMARY:Holi-Deals Day 5: Final Chance Friday
DESCRIPTION:All Holi-Deals Return for One Day Only\nMissed a deal earlier this week? This is your last chance. All Holi-Deals are back for one final day\, available through Dec. 12 at 11:59 p.m. \nFrom memberships and Broadway tickets to Alcove shopping and seasonal treats\, these limited-time offers are your final opportunity to save and celebrate the season.
URL:https://www.washingtonpavilion.org/event/holi-deals-day-5/
LOCATION:Washington Pavilion\, 301 S Main Ave\, Sioux Falls\, SD\, 57104\, United States
CATEGORIES:Holiday Events & Specials
ATTACH;FMTTYPE=image/jpeg:https://www.washingtonpavilion.org/wp-content/uploads/2025/12/Holi-Deal.jpg
END:VEVENT
BEGIN:VEVENT
DTSTART;VALUE=DATE:20251211
DTEND;VALUE=DATE:20251212
DTSTAMP:20260422T014224
CREATED:20251203T224902Z
LAST-MODIFIED:20251208T154734Z
UID:10000200-1765411200-1765497599@www.washingtonpavilion.org
SUMMARY:Holi-Deals Day 4: Cheers to Membership Perks
DESCRIPTION:Two free drink tickets with Explore or Wander Membership\nRaise a glass to today’s Holi-Deal. Purchase a new or gifted Explore or Wander Membership and receive two FREE drink tickets for your next visit. \nPerfect for individuals or pairs who love discovering new things\, these memberships unlock art exhibitions\, science galleries and performance perks all year long. The drink tickets are a refreshing bonus to enjoy along the way! \nIn-person offer only.
URL:https://www.washingtonpavilion.org/event/holi-deals-day-4/
LOCATION:Washington Pavilion\, 301 S Main Ave\, Sioux Falls\, SD\, 57104\, United States
CATEGORIES:Holiday Events & Specials
ATTACH;FMTTYPE=image/jpeg:https://www.washingtonpavilion.org/wp-content/uploads/2025/12/Holi-Deal.jpg
END:VEVENT
BEGIN:VEVENT
DTSTART;VALUE=DATE:20251209
DTEND;VALUE=DATE:20251210
DTSTAMP:20260422T014224
CREATED:20251203T223252Z
LAST-MODIFIED:20251208T154747Z
UID:10000198-1765238400-1765324799@www.washingtonpavilion.org
SUMMARY:Holi-Deals Day 2: Shop Small\, Save Big
DESCRIPTION:Celebrate the season with a Holi-Deal that gives back to local creativity. Take 25% off your online purchase at AlcoveSF.com when you use promo code GIFT25.\nOnline only. Excludes fine art. \nLocated in the Steel District\, Alcove showcases regional artists\, one-of-a-kind gifts and STEAM toys that inspire learning and imagination. It is the perfect place to find something meaningful for everyone on your list.
URL:https://www.washingtonpavilion.org/event/holi-deals-day-2/
LOCATION:Washington Pavilion\, 301 S Main Ave\, Sioux Falls\, SD\, 57104\, United States
CATEGORIES:Holiday Events & Specials
ATTACH;FMTTYPE=image/jpeg:https://www.washingtonpavilion.org/wp-content/uploads/2025/12/330x330_Five-Days-of-Deals.jpg
END:VEVENT
BEGIN:VEVENT
DTSTART;VALUE=DATE:20251208
DTEND;VALUE=DATE:20251209
DTSTAMP:20260422T014224
CREATED:20251203T222311Z
LAST-MODIFIED:20251208T154753Z
UID:10000197-1765152000-1765238399@www.washingtonpavilion.org
SUMMARY:Holi-Deals Day 1: Sweeten the Season
DESCRIPTION:Free scoop of ice cream with Discover Membership purchase\nEnjoy a flavorful start to your Holi-Deals savings. With the purchase of a new or gifted Discover Membership\, receive a FREE scoop of Parlour ice cream as our way of welcoming you into a year of learning\, creativity and family fun. \nIn-person offer only.
URL:https://www.washingtonpavilion.org/event/holi-deals-day-1/
LOCATION:Washington Pavilion\, 301 S Main Ave\, Sioux Falls\, SD\, 57104\, United States
CATEGORIES:Holiday Events & Specials
ATTACH;FMTTYPE=image/jpeg:https://www.washingtonpavilion.org/wp-content/uploads/2025/12/Holi-Deal.jpg
END:VEVENT
BEGIN:VEVENT
DTSTART;VALUE=DATE:20251206
DTEND;VALUE=DATE:20251207
DTSTAMP:20260422T014224
CREATED:20251107T165411Z
LAST-MODIFIED:20251210T213000Z
UID:10000183-1764979200-1765065599@www.washingtonpavilion.org
SUMMARY:Gallery Reception: From Whoville to Your TV: The Art of the Grinch
DESCRIPTION:Artwork by Chuck Jones\nDecember 6 | 1–3 p.m.\nWashington Pavilion Visual Arts Center \nGather with fellow art enthusiasts for a reception celebrating the talent and creativity of South Dakota and beyond. Explore the galleries\, meet the artist and be part of this vibrant community event. \nIn this Exhibition \nIn 1966\, master animator Chuck Jones brought Dr. Seuss’s How the Grinch Stole Christmas! from page to screen\, transforming the 1957 book into one of the most beloved holiday specials of all time. This exhibition showcases original production cels\, concept sketches\, and drawings that reveal the artistry behind the classic television film. Through Jones’s expressive animation and Seuss’s timeless storytelling\, visitors can explore the creative collaboration that gave the world the green Grinch\, the tender-hearted Cindy Lou Who\, and the ever-faithful Max. Together\, they remind us of the joy of transformation\, generosity\, and the spirit of Christmas. \nFrom the collection of Bill Heeter and Kristi Correa
URL:https://www.washingtonpavilion.org/event/gallery-reception-from-whoville-to-your-tv-the-art-of-the-grinch/
LOCATION:Visual Art Center\, 301 S. Main Ave\, Sioux Falls\, SD\, 57104\, United States
CATEGORIES:Special Events,Visual Arts Center
ATTACH;FMTTYPE=image/jpeg:https://www.washingtonpavilion.org/wp-content/uploads/2025/11/Grinch-330x330-Web-Thumbnail-3.jpg
END:VEVENT
BEGIN:VEVENT
DTSTART;VALUE=DATE:20251206
DTEND;VALUE=DATE:20251207
DTSTAMP:20260422T014224
CREATED:20251111T170035Z
LAST-MODIFIED:20251114T164137Z
UID:10000078-1764979200-1765065599@www.washingtonpavilion.org
SUMMARY:Meet Santa
DESCRIPTION:December 6\, 2025 | 10 a.m. – 4 p.m.*\nThird Floor Lobby\nTell Santa your wish list and take photos. Bring the whole family and your camera to see Sioux Falls Santa at your Washington Pavilion. \n*Santa will be taking a 30-minute lunch break from 1-1:30 p.m. \nEnhance your fun and click here to learn about more of our holiday offerings!
URL:https://www.washingtonpavilion.org/event/meet-santa-december-6/
LOCATION:Washington Pavilion\, 301 S Main Ave\, Sioux Falls\, SD\, 57104\, United States
CATEGORIES:Holiday Events & Specials,Special Events
ATTACH;FMTTYPE=image/jpeg:https://www.washingtonpavilion.org/wp-content/uploads/2025/11/3Santa.jpg
END:VEVENT
BEGIN:VEVENT
DTSTART;VALUE=DATE:20251205
DTEND;VALUE=DATE:20251206
DTSTAMP:20260422T014224
CREATED:20250911T190502Z
LAST-MODIFIED:20260114T163432Z
UID:10000155-1764892800-1764979199@www.washingtonpavilion.org
SUMMARY:Free First Friday
DESCRIPTION:Join us for Free First Friday from 5-8 p.m. to explore our Kirby Science Discovery Center and Visual Arts Center at no cost. Each first Friday of the month\, you can experience over 100 amazing exhibits and eight art galleries full of fun and beauty! \nAdmission is first come\, first served. Check in at the Box Office when you arrive to gain admission.
URL:https://www.washingtonpavilion.org/event/free-first-friday-dec/
LOCATION:Washington Pavilion\, 301 S Main Ave\, Sioux Falls\, SD\, 57104\, United States
CATEGORIES:Family,Special Events
ATTACH;FMTTYPE=image/jpeg:https://www.washingtonpavilion.org/wp-content/uploads/2025/02/1080x10802.jpg
END:VEVENT
BEGIN:VEVENT
DTSTART;VALUE=DATE:20251202
DTEND;VALUE=DATE:20251203
DTSTAMP:20260422T014224
CREATED:20251111T225734Z
LAST-MODIFIED:20251114T164421Z
UID:10000073-1764633600-1764719999@www.washingtonpavilion.org
SUMMARY:Giving Tuesday
DESCRIPTION:The Washington Pavilion is proud to participate in Giving Tuesday and South Dakota Gives to raise funds for youth programming. Giving Tuesday is a global movement that inspires hundreds of millions of people to give\, collaborate and celebrate generosity. Our youth programs are made possible through the generosity of our community. By supporting the Washington Pavilion on Giving Tuesday\, you are cultivating a lifelong love for the arts and science. Donate the week of December 2 to maximize your impact!
URL:https://www.washingtonpavilion.org/event/giving-tuesday/
LOCATION:Washington Pavilion\, 301 S Main Ave\, Sioux Falls\, SD\, 57104\, United States
CATEGORIES:Holiday Events & Specials,Special Events
ATTACH;FMTTYPE=image/jpeg:https://www.washingtonpavilion.org/wp-content/uploads/2025/11/Giving-Tuesday.jpg
END:VEVENT
BEGIN:VEVENT
DTSTART;VALUE=DATE:20251124
DTEND;VALUE=DATE:20260114
DTSTAMP:20260422T014224
CREATED:20251111T204508Z
LAST-MODIFIED:20260313T174642Z
UID:10000189-1763942400-1768348799@www.washingtonpavilion.org
SUMMARY:Tidings & Tinsel
DESCRIPTION:Step into the spirit of the season with our Tidings & Tinsel display! Explore beautifully decorated trees throughout our lobbies\, each one uniquely designed by local businesses. It’s the perfect photo op and a festive backdrop to your Pavilion visit.
URL:https://www.washingtonpavilion.org/event/tidings-tinsel/
LOCATION:Washington Pavilion\, 301 S Main Ave\, Sioux Falls\, SD\, 57104\, United States
CATEGORIES:Holiday Events & Specials
ATTACH;FMTTYPE=image/jpeg:https://www.washingtonpavilion.org/wp-content/uploads/2025/11/Tidings2.jpg
END:VEVENT
BEGIN:VEVENT
DTSTART;VALUE=DATE:20251120
DTEND;VALUE=DATE:20251121
DTSTAMP:20260422T014224
CREATED:20251103T172823Z
LAST-MODIFIED:20251113T163720Z
UID:10000181-1763596800-1763683199@www.washingtonpavilion.org
SUMMARY:Space Explorers: Mission Infinity — Member-Only Evening
DESCRIPTION:A special evening just for our members! \nExperience Space Explorers: Mission Infinity\, our all-new interactive space floor\, during this exclusive after-hours event. Step into a world of hands-on discovery as your family explores distant galaxies\, takes on exciting STEM challenges\, and uncovers the wonders of the universe — after dark!
URL:https://www.washingtonpavilion.org/event/space-explorers-mission-infinity-member-only-evening/
LOCATION:Kirby Science Discovery Center\, 301 S Main Ave\, Sioux Falls\, SD\, 57104\, United States
CATEGORIES:Family,Special Events
ATTACH;FMTTYPE=image/jpeg:https://www.washingtonpavilion.org/wp-content/uploads/2025/11/330x330-1.jpg
END:VEVENT
BEGIN:VEVENT
DTSTART;VALUE=DATE:20251115
DTEND;VALUE=DATE:20260101
DTSTAMP:20260422T014224
CREATED:20251111T204358Z
LAST-MODIFIED:20251217T194909Z
UID:10000188-1763164800-1767225599@www.washingtonpavilion.org
SUMMARY:Holiday Specials
DESCRIPTION:Explore Our Holiday Offerings\nGive the gift of the Washington Pavilion to your loved ones and take advantage of our holiday specials! There’s truly something for everyone at the Washington Pavilion like memberships\, tickets to shows\, Pavilion Bucks and more! \n 
URL:https://www.washingtonpavilion.org/event/holiday-specials/
LOCATION:Washington Pavilion\, 301 S Main Ave\, Sioux Falls\, SD\, 57104\, United States
CATEGORIES:Holiday Events & Specials,Special Events
ATTACH;FMTTYPE=image/png:https://www.washingtonpavilion.org/wp-content/uploads/2025/11/Holiday-Specials.png
END:VEVENT
BEGIN:VEVENT
DTSTART;VALUE=DATE:20251115
DTEND;VALUE=DATE:20251116
DTSTAMP:20260422T014224
CREATED:20251103T171508Z
LAST-MODIFIED:20251210T213141Z
UID:10000180-1763164800-1763251199@www.washingtonpavilion.org
SUMMARY:Space Explorers: Mission Infinity — Member-Only Sneak Peek
DESCRIPTION:Be the first to launch into adventure! \nWe’re opening the doors early just for our members. Join us for an exclusive sneak peek of our newly renovated space and technology floor — Space Explorers: Mission Infinity — before it opens to the public. \nBring your whole crew for an early morning of hands-on discovery\, interactive STEM missions and galactic adventures designed for curious minds of all ages. Explore five immersive zones\, from Earth’s orbit to the farthest reaches of the universe — all before anyone else gets to experience it. \nNo RSVP needed — simply check in and get ready to blast off at 9 a.m.
URL:https://www.washingtonpavilion.org/event/space-explorers-mission-infinity-member-only-sneak-peek/
LOCATION:Kirby Science Discovery Center\, 301 S Main Ave\, Sioux Falls\, SD\, 57104\, United States
CATEGORIES:Family,Special Events
ATTACH;FMTTYPE=image/jpeg:https://www.washingtonpavilion.org/wp-content/uploads/2025/11/330x330-1.jpg
END:VEVENT
BEGIN:VEVENT
DTSTART;VALUE=DATE:20251107
DTEND;VALUE=DATE:20251108
DTSTAMP:20260422T014224
CREATED:20250911T185800Z
LAST-MODIFIED:20260114T163608Z
UID:10000154-1762473600-1762559999@www.washingtonpavilion.org
SUMMARY:Free First Friday
DESCRIPTION:Join us for Free First Friday from 5-8 p.m. to explore our Kirby Science Discovery Center and Visual Arts Center at no cost. Each first Friday of the month\, you can experience over 100 amazing exhibits and eight art galleries full of fun and beauty! \nAdmission is first come\, first served. Check in at the Box Office when you arrive to gain admission.
URL:https://www.washingtonpavilion.org/event/free-first-friday-nov/
LOCATION:Washington Pavilion\, 301 S Main Ave\, Sioux Falls\, SD\, 57104\, United States
CATEGORIES:Family,Special Events
ATTACH;FMTTYPE=image/jpeg:https://www.washingtonpavilion.org/wp-content/uploads/2025/03/fff-330x330-1.jpg
END:VEVENT
BEGIN:VEVENT
DTSTART;VALUE=DATE:20251025
DTEND;VALUE=DATE:20251026
DTSTAMP:20260422T014224
CREATED:20250813T134819Z
LAST-MODIFIED:20250919T201634Z
UID:10000071-1761350400-1761436799@www.washingtonpavilion.org
SUMMARY:Spooky Science 2025
DESCRIPTION:Get ready for Halloween fun designed for the whole family! Skip the haunted houses and late-night frights — this daytime event is all about sparking wonder. Parents can feel good knowing their kids are celebrating Halloween with safe\, enriching activities while still getting the fun (and candy!) they love. \nWhat to Expect: \n\nHands-on seasonal science experiments\nCreative Halloween crafts for kids of all ages\nFace painter from 10 a.m.–2 p.m.\nFamily-friendly activities in a safe\, festive environment\nA special bag of Halloween treats for every child\n\nWhether your little one comes dressed as a ghost\, superhero or mad scientist\, they’ll love exploring the playful side of science. Costumes encouraged but not required!
URL:https://www.washingtonpavilion.org/event/spooky-science-2025/
LOCATION:Kirby Science Discovery Center\, 301 S Main Ave\, Sioux Falls\, SD\, 57104\, United States
CATEGORIES:Family,Holiday Entertainment,Members,Special Events
ATTACH;FMTTYPE=image/jpeg:https://www.washingtonpavilion.org/wp-content/uploads/2025/08/330x330-Spooky-Science.jpg
END:VEVENT
BEGIN:VEVENT
DTSTART;VALUE=DATE:20251023
DTEND;VALUE=DATE:20251024
DTSTAMP:20260422T014224
CREATED:20250828T214247Z
LAST-MODIFIED:20250909T135117Z
UID:10000145-1761177600-1761263999@www.washingtonpavilion.org
SUMMARY:South Dakota Public Broadcasting Presents: The American Revolution
DESCRIPTION:Join us as we dive into the intimate history of THE AMERICAN REVOLUTION at SDPB’s special adults-only (21+) event. This exclusive evening opens the Science Center and Visual Arts Center to all while also offering multiple opportunities to view a portion of the upcoming 12-hour documentary by Ken Burns on The American Revolution. As part of this immersive experience\, we will also highlight the life and legacy of George N. Ostrom\, a pioneer\, preservationist and painter through his artwork on display in the Visual Arts Center. \nEvent Highlights Include: \n\nUnlimited access to the Kirby Science Discovery Center and Visual Arts Center\nMultiple showings of pieces of the upcoming documentary on The American Revolution in the Wells Fargo CineDome & Sweetman Planetarium. Showtimes at 6:15 p.m.\, 7:15 p.m. and 8:15 p.m.\nA free scoop of gourmet ice cream at Parlour\n\nOther refreshments and adult beverages are available for purchase\n\n\n\nThis event is FREE and open to the public\, but an RSVP is required. Reserve your spot to ensure you don’t miss this unique opportunity to take a deep dive into the stories\, both told and untold\, around the American Revolution.
URL:https://www.washingtonpavilion.org/event/south-dakota-public-broadcasting-presents-the-american-revolution/
LOCATION:Washington Pavilion\, 301 S Main Ave\, Sioux Falls\, SD\, 57104\, United States
CATEGORIES:Special Events
ATTACH;FMTTYPE=image/jpeg:https://www.washingtonpavilion.org/wp-content/uploads/2025/08/330x330.jpg
END:VEVENT
BEGIN:VEVENT
DTSTART;VALUE=DATE:20251010
DTEND;VALUE=DATE:20251012
DTSTAMP:20260422T014224
CREATED:20250910T172125Z
LAST-MODIFIED:20251016T075359Z
UID:10000152-1760054400-1760227199@www.washingtonpavilion.org
SUMMARY:Spotlight Theatre Company Presents: WE ARE MONSTERS
DESCRIPTION:WE ARE MONSTERS is a hilarious new musical that follows human kids into a monster cabaret filled with quirky monster characters. The adventurous humans uncover vegetarian vampires and rock n’ roll werewolves\, gradually realizing there may be more to these monsters than meets the eye! Most importantly\, these monsters and kids discover the importance of friendship and celebrating in the attributes that make each of us different and unique.
URL:https://www.washingtonpavilion.org/event/spotlight-theatre-company-we-are-monsters/
LOCATION:Belbas Theater\, 301 S Main Ave\, Sioux Falls\, 57104
CATEGORIES:Musical,Spotlight Theatre Company
ATTACH;FMTTYPE=image/png:https://www.washingtonpavilion.org/wp-content/uploads/2025/09/WAM-Logo-Small-website.png
END:VEVENT
BEGIN:VEVENT
DTSTART;VALUE=DATE:20251003
DTEND;VALUE=DATE:20251004
DTSTAMP:20260422T014224
CREATED:20250911T185033Z
LAST-MODIFIED:20260114T163536Z
UID:10000153-1759449600-1759535999@www.washingtonpavilion.org
SUMMARY:Free First Friday
DESCRIPTION:Join us for Free First Friday from 5-8 p.m. to explore our Kirby Science Discovery Center and Visual Arts Center at no cost. Each first Friday of the month\, you can experience over 100 amazing exhibits and eight art galleries full of fun and beauty! \nAdmission is first come\, first served. Check in at the Box Office when you arrive to gain admission.
URL:https://www.washingtonpavilion.org/event/free-first-friday-oct/
LOCATION:Washington Pavilion\, 301 S Main Ave\, Sioux Falls\, SD\, 57104\, United States
CATEGORIES:Family,Special Events
ATTACH;FMTTYPE=image/jpeg:https://www.washingtonpavilion.org/wp-content/uploads/2025/02/1080x10804.jpg
END:VEVENT
END:VCALENDAR