BEGIN:VCALENDAR
VERSION:2.0
PRODID:-//Washington Pavilion - ECPv6.15.15//NONSGML v1.0//EN
CALSCALE:GREGORIAN
METHOD:PUBLISH
X-ORIGINAL-URL:https://www.washingtonpavilion.org
X-WR-CALDESC:Events for Washington Pavilion
REFRESH-INTERVAL;VALUE=DURATION:PT1H
X-Robots-Tag:noindex
X-PUBLISHED-TTL:PT1H
BEGIN:VTIMEZONE
TZID:America/Chicago
BEGIN:DAYLIGHT
TZOFFSETFROM:-0600
TZOFFSETTO:-0500
TZNAME:CDT
DTSTART:20250309T080000
END:DAYLIGHT
BEGIN:STANDARD
TZOFFSETFROM:-0500
TZOFFSETTO:-0600
TZNAME:CST
DTSTART:20251102T070000
END:STANDARD
BEGIN:DAYLIGHT
TZOFFSETFROM:-0600
TZOFFSETTO:-0500
TZNAME:CDT
DTSTART:20260308T080000
END:DAYLIGHT
BEGIN:STANDARD
TZOFFSETFROM:-0500
TZOFFSETTO:-0600
TZNAME:CST
DTSTART:20261101T070000
END:STANDARD
BEGIN:DAYLIGHT
TZOFFSETFROM:-0600
TZOFFSETTO:-0500
TZNAME:CDT
DTSTART:20270314T080000
END:DAYLIGHT
BEGIN:STANDARD
TZOFFSETFROM:-0500
TZOFFSETTO:-0600
TZNAME:CST
DTSTART:20271107T070000
END:STANDARD
BEGIN:DAYLIGHT
TZOFFSETFROM:-0600
TZOFFSETTO:-0500
TZNAME:CDT
DTSTART:20280312T080000
END:DAYLIGHT
BEGIN:STANDARD
TZOFFSETFROM:-0500
TZOFFSETTO:-0600
TZNAME:CST
DTSTART:20281105T070000
END:STANDARD
END:VTIMEZONE
BEGIN:VTIMEZONE
TZID:UTC
BEGIN:STANDARD
TZOFFSETFROM:+0000
TZOFFSETTO:+0000
TZNAME:UTC
DTSTART:20250101T000000
END:STANDARD
END:VTIMEZONE
BEGIN:VEVENT
DTSTART;VALUE=DATE:20260912
DTEND;VALUE=DATE:20260913
DTSTAMP:20260422T014439
CREATED:20250206T153935Z
LAST-MODIFIED:20260331T211010Z
UID:10000036-1789171200-1789257599@www.washingtonpavilion.org
SUMMARY:63rd Annual Sidewalk Arts Festival
DESCRIPTION:Sidewalk Arts Festival is a free outdoor event featuring more than 230 vendors showcasing fine art\, folk art and handcrafted goods from across the region. The festival also includes nonprofit organizations\, food vendors\, live entertainment and activities for kids. \nHeld on the streets surrounding the Washington Pavilion of Arts & Science\, Sidewalk Arts Festival is the region’s largest one-day arts festival and a favorite annual tradition in downtown Sioux Falls. \nWhat to Expect\nVisitors can enjoy: \n\nFine art\, folk art and handmade goods from regional artists\nFood vendors and downtown dining options\nLive entertainment throughout the day\nInteractive activities for kids and families\n\nIn 2025\, the festival welcomed a record-breaking 284 vendors\, making it one of the most vibrant and well-attended years in event history. \nAbout the Festival\nSidewalk Arts Festival Sioux Falls is a fundraiser supporting the Washington Pavilion of Arts & Science. Proceeds help advance the Pavilion’s mission to deliver memorable experiences that entertain\, educate and enrich by inspiring lifelong discovery and inclusive experiences that improve quality of life for all. \nAccessibility and Event Details\nThe festival is a smoke-free event. ADA accommodations are available by contacting the Washington Pavilion at 605-367-6000 at least 72 hours prior to the event. \nThe Washington Pavilion and Sidewalk Arts Festival do not partner with third-party hotel booking services or outside vendors. All official communications come directly from the Washington Pavilion or Sidewalk Arts Festival. \nInterested in Participating?\nThe Sidewalk Arts Festival returns on Saturday\, Sept. 12\, 2026. Artists\, sponsors and partners interested in participating can email sidewalkarts@washingtonpavilion.org for more information.\nNow accepting vendor applications! Sponsorship opportunities will be available soon.
URL:https://www.washingtonpavilion.org/event/sidewalk-arts-festival-2026/
LOCATION:Downtown Sioux Falls\, 301 S Main Ave\, Sioux Falls\, SD\, 57104\, United States
CATEGORIES:Special Events
ATTACH;FMTTYPE=image/jpeg:https://www.washingtonpavilion.org/wp-content/uploads/2025/02/SWAF-thumb.jpg
END:VEVENT
BEGIN:VEVENT
DTSTART;VALUE=DATE:20260918
DTEND;VALUE=DATE:20260919
DTSTAMP:20260422T014439
CREATED:20260403T131338Z
LAST-MODIFIED:20260410T163948Z
UID:10000228-1789689600-1789775999@www.washingtonpavilion.org
SUMMARY:Ricky Tims Musical Concert
DESCRIPTION:Music\, storytelling and creativity on stage\nJoin Ricky Tims for a one-of-a-kind evening of live music\, humor and storytelling\, presented by the Sioux Falls Quilt Guild. Known for his innovative approach to creativity\, Ricky brings his artistry to life in a performance that is both entertaining and inspiring. \nWhether you’re part of the quilting community or simply enjoy a great live experience\, this is a night you won’t want to miss
URL:https://www.washingtonpavilion.org/event/ricky-tims-musical-concert/
LOCATION:Mary W. Sommervold Hall\, 301 S. Main Ave\, Sioux Falls\, SD\, 57104\, United States
CATEGORIES:Concert
ATTACH;FMTTYPE=image/jpeg:https://www.washingtonpavilion.org/wp-content/uploads/2026/04/1170x700-Ricky-Tims-quilt-330-x-330-px.jpg
END:VEVENT
BEGIN:VEVENT
DTSTART;VALUE=DATE:20260918
DTEND;VALUE=DATE:20260920
DTSTAMP:20260422T014439
CREATED:20260331T191402Z
LAST-MODIFIED:20260401T151911Z
UID:10000227-1789689600-1789862399@www.washingtonpavilion.org
SUMMARY:Ricky Tims' Quilt Luminarium
DESCRIPTION:Quilt Luminarium is Ricky Tims’ signature educational and inspirational experience – an engaging fusion of quilting\, music\, humor\, inspiration\, and storytelling designed to ignite your creative spirit. Through engaging presentation\, Ricky demystifies color\, design\, and technique while sharing countless quilting tips and secrets. Whether you’re a beginner or a seasoned quilter\, you’ll leave enlightened\, energized\, and empowered to take your quilting to new heights. Purchase includes two-day class. Lunch provided both dates. \nClasses are from 8:30 a.m.-5 p.m.
URL:https://www.washingtonpavilion.org/event/ricky-tims-quilt-luminarium/
LOCATION:Belbas Theater\, 301 S Main Ave\, Sioux Falls\, 57104
ATTACH;FMTTYPE=image/png:https://www.washingtonpavilion.org/wp-content/uploads/2026/03/330x330-Ricky-Tims-Quilt.png
END:VEVENT
BEGIN:VEVENT
DTSTART;VALUE=DATE:20260925
DTEND;VALUE=DATE:20260926
DTSTAMP:20260422T014439
CREATED:20260330T135936Z
LAST-MODIFIED:20260330T161255Z
UID:10000214-1790294400-1790380799@www.washingtonpavilion.org
SUMMARY:“I AM\, HE SAID” – A Celebration of The Music of Neil Diamond
DESCRIPTION:“We are saying what HE said\,” laughs Matt Vee referring to the one and only Neil Diamond. Matt along with cousins Jeff and Tommy Vee\, local music scene veterans and sons of the legendary Bobby Vee\, join forces with their family and friends as The Killer Vees to celebrate the music from a timeless catalog. With songs like “Cracklin’ Rosie\,” “America\,” and “Sweet Caroline\,” Neil Diamond sold over 100 million records worldwide with music that became the soundtrack to one generation after another with hits spanning five decades. As a Tin Pan Alley song writer in the mid 60s\, he penned songs recorded by everyone from Elvis Presley to Deep Purple and\, of course\, the Monkee’s classic\, “I’m A Believer.” \n“This is not a tribute show\,” says Tommy Vee. “This is a celebration of an amazing musical icon\, one we all love and respect. We have been fans since we were in grade school and first learning our respective instruments and played many of these tunes over the years in various bands. We have recruited an incredible group of singers and players and have gone back to the original records\,” he explains\, “it is all about the vocals and Matt nails it. It’s a Rockin’ show!” \nJoining The Killer Vees will be Matt’s wife Julie Velline on vocals and Tommy Vee’s son Bennett Vee on lead guitar along the incomparable Chris Bloniarz on keyboards\, Dennis Kennedy on percussion and Richard Manik on Saxophone\, flute\, keyboards and vocals\, as well as a very special surprise featuring local talent for the finale.
URL:https://www.washingtonpavilion.org/event/i-am-he-said/
LOCATION:Mary W. Sommervold Hall\, 301 S. Main Ave\, Sioux Falls\, SD\, 57104\, United States
CATEGORIES:Broadway,Concert
ATTACH;FMTTYPE=image/jpeg:https://www.washingtonpavilion.org/wp-content/uploads/2026/03/I-AM-HE-SAID_Cover.jpg
END:VEVENT
BEGIN:VEVENT
DTSTART;VALUE=DATE:20261009
DTEND;VALUE=DATE:20261012
DTSTAMP:20260422T014439
CREATED:20260330T135744Z
LAST-MODIFIED:20260409T175535Z
UID:10000212-1791504000-1791763199@www.washingtonpavilion.org
SUMMARY:WAITRESS
DESCRIPTION:Meet Jenna\, a waitress and expert pie-maker who dreams of a way out of her small town and rocky marriage. Pouring her heart into her pies\, she crafts desserts that mirror her topsy-turvy life such as “The Key (Lime) to Happiness Pie” and “Betrayed By My Eggs Pie.” When a baking contest in a nearby county — and a satisfying encounter with someone new — show Jenna a chance at a fresh start\, she must find the courage to seize it. Change is on the menu\, as long as Jenna can write her own perfectly personal recipe for happiness. \nBrought to life by a groundbreaking creative team\, this hilarious hit Broadway musical features original music and lyrics by Grammy® Award winner Sara Bareilles (“Brave\,” “Love Song”)\, a book by acclaimed screenwriter Jessie Nelson (I Am Sam)\, original choreography by Lorin Latarro (Mrs. Doubtfire\, Chess) and original direction by Tony Award® winner Diane Paulus (1776\, Jagged Little Pill\, Pippin). \n“WAITRESS is a little slice of heaven!” says Entertainment Weekly\, and is “sweet\, sassy and passionate\,” according to New York Magazine. \n“It’s an empowering musical of the highest order!” raves the Chicago Tribune. Don’t miss this uplifting and hilarious musical celebrating friendship\, motherhood\, and the magic of a well-made pie.
URL:https://www.washingtonpavilion.org/event/waitress/
LOCATION:Mary W. Sommervold Hall\, 301 S. Main Ave\, Sioux Falls\, SD\, 57104\, United States
CATEGORIES:Broadway,Comedy,Drama
ATTACH;FMTTYPE=image/jpeg:https://www.washingtonpavilion.org/wp-content/uploads/2026/03/WAITRESS-Show-Cover.jpg
END:VEVENT
BEGIN:VEVENT
DTSTART;VALUE=DATE:20261018
DTEND;VALUE=DATE:20261019
DTSTAMP:20260422T014439
CREATED:20260211T171103Z
LAST-MODIFIED:20260304T150106Z
UID:10000221-1792281600-1792367999@www.washingtonpavilion.org
SUMMARY:World Ballet Company: Swan Lake with LIVE Orchestra
DESCRIPTION:The World’s MOST Iconic Ballet – With a LIVE Orchestra!\n\nThe legendary tale of Swan Lake takes flight in a breathtaking production from World Ballet Company\, as fate and magic entwine in a timeless battle between good and evil. Performing with a Live Orchestra\, and featuring a cast of 50 international dancers\, over 150 radiant hand-sewn costumes\, and stunning hand-crafted sets\, this spellbinding ballet captures every heart-pounding moment – from the Dance of the Little Swans to the Black Swan’s 32 fouettés\, and every pirouette in between.\nWith Tchaikovsky’s unforgettable score soaring through the air and played LIVE\, immerse yourself in this mesmerizing journey where dreams\, heartbreak\, and hope unfold right before your eyes. \nWorld Ballet Company – Ballet Everywhere\, Ballet For All. \n*About the Company: Based in Los Angeles\, and led by Sasha Gorskaya and Gulya Hartwick\, World Ballet Company presents the most beloved and iconic ballets of our time in cities nationwide. Driven by the belief that ballet is for everyone\, performances appeal to newcomers and seasoned ballet goers alike. The company attracts many international artists and comprises renowned professional dancers representing over ten countries. \nTo date\, World Ballet Company has traveled to more than 300 cities\, reaching an audience of more than 500\,000 fans. \n\nMake it a group experience! Special pricing is available for groups of 10 or more: worldballetcompany.com/group-tickets.\n\n\nWBC Website: https://worldballetcompany.com/siouxfalls2
URL:https://www.washingtonpavilion.org/event/swan-lake-sioux-falls/
LOCATION:SD
CATEGORIES:Dance
ATTACH;FMTTYPE=image/jpeg:https://www.washingtonpavilion.org/wp-content/uploads/2026/02/SL_330x330pxorch.jpg
END:VEVENT
BEGIN:VEVENT
DTSTART;VALUE=DATE:20261027
DTEND;VALUE=DATE:20261029
DTSTAMP:20260422T014439
CREATED:20260330T160252Z
LAST-MODIFIED:20260330T160936Z
UID:10000213-1793059200-1793231999@www.washingtonpavilion.org
SUMMARY:JERSEY BOYS
DESCRIPTION:The original Broadway sensation returns to the road! Celebrating 20 years – Jersey style! \nThey were just four guys from Jersey\, until they sang their very first note. They had a sound nobody had ever heard… and the radio just couldn’t get enough of. But while their harmonies were perfect on stage\, off stage it was a very different story — a story that has made them an international sensation all over again. The show features all their hits including “Sherry\,” “Big Girls Don’t Cry\,” “Oh What a Night\,” “Walk Like a Man\,” “Can’t Take My Eyes Off You\,” “Beggin’” and “Working My Way Back to You.” \nGo behind the music and inside the story of Frankie Valli and The Four Seasons in the Tony Award®-winning\, original Broadway sensation\, JERSEY BOYS.  From the streets of New Jersey to the Rock and Roll Hall of Fame\, this is the musical that’s too good to be true.
URL:https://www.washingtonpavilion.org/event/jersey-boys/
LOCATION:Mary W. Sommervold Hall\, 301 S. Main Ave\, Sioux Falls\, SD\, 57104\, United States
CATEGORIES:Broadway,Drama
ATTACH;FMTTYPE=image/jpeg:https://www.washingtonpavilion.org/wp-content/uploads/2026/03/JERSEY-BOY_Cover.jpg
END:VEVENT
BEGIN:VEVENT
DTSTART;VALUE=DATE:20261111
DTEND;VALUE=DATE:20261116
DTSTAMP:20260422T014439
CREATED:20260312T215021Z
LAST-MODIFIED:20260330T154324Z
UID:10000215-1794355200-1794787199@www.washingtonpavilion.org
SUMMARY:& JULIET
DESCRIPTION:“The most fun you’ll have in a theatre! A smart\, laugh-out-loud shot of pure gold. Exactly what we need right now.” — Variety \nCreated by the Emmy®-winning writer from “Schitt’s Creek\,” this hilarious new musical flips the script on the greatest love story ever told. & Juliet asks: what would happen next if Juliet didn’t end it all over Romeo? Get whisked away on a fabulous journey as she ditches her famous ending for a fresh beginning and a second chance at life and love—her way. \nJuliet’s new story bursts to life through a playlist of pop anthems as iconic as her name\, including “Since U Been Gone‚” “Roar\,” “Baby One More Time\,” “Larger Than Life‚” “That’s The Way It Is\,“ and “Can’t Stop the Feeling!”—all from the genius songwriter/producer behind more #1 hits than any other artist this century. Break free of the balcony scene and get into this romantic comedy that proves there’s life after Romeo. The only thing tragic would be missing it. \nNote:\n& Juliet includes flashing/strobe lighting\, loud noises\, confetti cannons\, and pyrotechnics throughout. & Juliet has partnered with GalaPro to provide subtitles.
URL:https://www.washingtonpavilion.org/event/juliet/
LOCATION:Mary W. Sommervold Hall\, 301 S. Main Ave\, Sioux Falls\, SD\, 57104\, United States
CATEGORIES:Broadway
ATTACH;FMTTYPE=image/jpeg:https://www.washingtonpavilion.org/wp-content/uploads/2026/02/AndJuliet.jpg
END:VEVENT
BEGIN:VEVENT
DTSTART;VALUE=DATE:20261202
DTEND;VALUE=DATE:20261203
DTSTAMP:20260422T014439
CREATED:20260325T163446Z
LAST-MODIFIED:20260406T154254Z
UID:10000231-1796169600-1796255999@www.washingtonpavilion.org
SUMMARY:NUTCRACKER! Magical Christmas Ballet
DESCRIPTION:Make this the Christmas they’ll never forget with NUTCRACKER! Magical Christmas Ballet. Experience the largest Nutcracker production in North America — a breathtaking holiday spectacle featuring world-class international dancers\, gravity-defying acrobatics\, magnificent costumes\, and towering puppets. Set to Tchaikovsky’s iconic score\, this grand production transforms the stage into an unforgettable celebration of the season — one your family will treasure for years to come.
URL:https://www.washingtonpavilion.org/event/nutcracker-magical-christmas-ballet-2/
LOCATION:Mary W. Sommervold Hall\, 301 S. Main Ave\, Sioux Falls\, SD\, 57104\, United States
CATEGORIES:Dance
ATTACH;FMTTYPE=image/jpeg:https://www.washingtonpavilion.org/wp-content/uploads/2026/03/330-330-1.jpg
END:VEVENT
BEGIN:VEVENT
DTSTART;VALUE=DATE:20261210
DTEND;VALUE=DATE:20261211
DTSTAMP:20260422T014439
CREATED:20260325T163723Z
LAST-MODIFIED:20260403T160627Z
UID:10000230-1796860800-1796947199@www.washingtonpavilion.org
SUMMARY:Dusty Slay: The Neighborhood Guy Tour
DESCRIPTION:Get ready for a night of easygoing\, laugh-out-loud comedy with Dusty Slay. Known for his “we’re having a good time” style\, Dusty brings relatable stories and sharp observations to the stage in a performance that feels both effortless and unforgettable.
URL:https://www.washingtonpavilion.org/event/dusty-slay/
LOCATION:Mary W. Sommervold Hall\, 301 S. Main Ave\, Sioux Falls\, SD\, 57104\, United States
CATEGORIES:Comedy
ATTACH;FMTTYPE=image/jpeg:https://www.washingtonpavilion.org/wp-content/uploads/2026/03/330-x-330-dusty.jpg
END:VEVENT
BEGIN:VEVENT
DTSTART;VALUE=DATE:20261218
DTEND;VALUE=DATE:20261221
DTSTAMP:20260422T014439
CREATED:20260330T160034Z
LAST-MODIFIED:20260409T180306Z
UID:10000216-1797552000-1797811199@www.washingtonpavilion.org
SUMMARY:A CHRISTMAS STORY\, THE MUSICAL
DESCRIPTION:Celebrate the holidays with A CHRISTMAS STORY\, THE MUSICAL at the Washington Pavilion in Sioux Falls Dec. 18–20. Based on the beloved holiday film\, this heartwarming Broadway musical brings Ralphie Parker’s unforgettable Christmas wish to life on stage with humor\, nostalgia and festive fun for the whole family. \nFrom the songwriting team behind the smash hit Tony Award-winning musical Dear Evan Hansen and the critically-acclaimed films La La Land and The Greatest Showman\, A CHRISTMAS STORY\, THE MUSICAL\, brings the classic 1983 movie to hilarious life on stage! Set in 1940s Indiana\, a young and bespectacled Ralphie Parker schemes his way toward the holiday gift of his dreams\, an official Red Ryder® Carbine-Action 200-Shot Range Model Air Rifle. An infamous leg lamp\, outrageous pink bunny pajamas\, a maniacal department store Santa\, and a triple-dog dare to lick a freezing flagpole are just a few of the distractions that stand between Ralphie and his Christmas wish. Nominated for three 2013 Tony Awards\, including Best Musical\, the Associated Press calls A CHRISTMAS STORY\, THE MUSICAL “a joyous Christmas miracle\,” while The New York Times writes “I was dazzled. You’d have to have a Grinch-sized heart not to feel a smile spreading across your face.”
URL:https://www.washingtonpavilion.org/event/a-christmas-story/
LOCATION:Mary W. Sommervold Hall\, 301 S. Main Ave\, Sioux Falls\, SD\, 57104\, United States
CATEGORIES:Broadway
ATTACH;FMTTYPE=image/jpeg:https://www.washingtonpavilion.org/wp-content/uploads/2026/03/A-CHRISTMAS-STORY_Cover.jpg
END:VEVENT
BEGIN:VEVENT
DTSTART;VALUE=DATE:20270129
DTEND;VALUE=DATE:20270201
DTSTAMP:20260422T014439
CREATED:20260330T135728Z
LAST-MODIFIED:20260415T212146Z
UID:10000217-1801180800-1801439999@www.washingtonpavilion.org
SUMMARY:MYSTIC PIZZA
DESCRIPTION:Based on the beloved 1988 MGM rom-com that launched the career of Julia Roberts\, MYSTIC PIZZA is a new musical about three working-class girls who navigate the complexities of life\, love and family in a small-town pizza joint serving everyone from the townies to the privileged country club set. And what’s in that secret sauce\, you ask? The hits of the 80s and 90s! The hit songs range from “Girls Just Want to Have Fun” to “Hold On” to “Nothing’s Gonna Stop Us Now.”
URL:https://www.washingtonpavilion.org/event/mystic-pizza/
LOCATION:Mary W. Sommervold Hall\, 301 S. Main Ave\, Sioux Falls\, SD\, 57104\, United States
CATEGORIES:Broadway
ATTACH;FMTTYPE=image/jpeg:https://www.washingtonpavilion.org/wp-content/uploads/2026/02/Mystic-Pizza.jpg
END:VEVENT
BEGIN:VEVENT
DTSTART;VALUE=DATE:20270219
DTEND;VALUE=DATE:20270222
DTSTAMP:20260422T014439
CREATED:20260330T135710Z
LAST-MODIFIED:20260409T180350Z
UID:10000218-1802995200-1803254399@www.washingtonpavilion.org
SUMMARY:SHUCKED
DESCRIPTION:Maizy and Beau are getting hitched\, when the corn that protects their small community starts to die. The town needs answers. But who will dare to venture beyond the borders of Cob County? \nIncluding the knockout songs ‘Woman of the World’\, ‘Somebody Will’ and ‘Independently Owned’\, this Broadway hit about an unlikely hero\, an unscrupulous con artist\, and a battle for the heart and soil of a small town\, is not to be missed.
URL:https://www.washingtonpavilion.org/event/shucked/
LOCATION:Mary W. Sommervold Hall\, 301 S. Main Ave\, Sioux Falls\, SD\, 57104\, United States
CATEGORIES:Broadway,Comedy
ATTACH;FMTTYPE=image/jpeg:https://www.washingtonpavilion.org/wp-content/uploads/2026/03/SHUCKED-Show-Cover.jpg
END:VEVENT
BEGIN:VEVENT
DTSTART;VALUE=DATE:20270320
DTEND;VALUE=DATE:20270321
DTSTAMP:20260422T014439
CREATED:20260330T160054Z
LAST-MODIFIED:20260330T161002Z
UID:10000229-1805500800-1805587199@www.washingtonpavilion.org
SUMMARY:MARK TWAIN TONIGHT!
DESCRIPTION:Emmy-Award® winning Actor and 2025 Theater Hall of Fame Inductee Richard Thomas brings to life “the nation’s one true comic genius” (The New York Times) in Mark Twain Tonight!\, written and originally performed by Hal Holbrook. Join the millions who have cheered for the legendary one-man show\, bursting with Twain’s “uproariously funny” and “pungently wise” (Time Magazine) humor. \nMost recently seen on Broadway in Our Town\, on tour as Atticus Finch in To Kill a Mockingbird\, and on Netflix’s Ozark\, Richard Thomas will return to Broadway in Spring 2026 in David Lindsay-Abaire’s The Balusters\, directed by Kenny Leon. Beloved to generations as John-Boy Walton\, Richard Thomas is the first and only actor authorized to perform Mark Twain Tonight! since the original.
URL:https://www.washingtonpavilion.org/event/mark-twain-tonight/
LOCATION:SD
CATEGORIES:Broadway
ATTACH;FMTTYPE=image/jpeg:https://www.washingtonpavilion.org/wp-content/uploads/2026/03/MARK-TWAIN-TONIGHT_Cover.jpg
END:VEVENT
BEGIN:VEVENT
DTSTART;VALUE=DATE:20270403
DTEND;VALUE=DATE:20270405
DTSTAMP:20260422T014439
CREATED:20260330T135655Z
LAST-MODIFIED:20260409T180443Z
UID:10000219-1806710400-1806883199@www.washingtonpavilion.org
SUMMARY:THE WIZ
DESCRIPTION:A bold reimagining of a classic\, The Wiz brings Dorothy’s journey to life with dazzling music\, dynamic choreography and a powerful celebration of self-discovery. Featuring iconic songs and a vibrant theatrical style\, this production blends soul\, pop and Broadway spectacle. \nThis nationally touring Broadway production arrives for a limited run in April\, offering audiences a fresh and electrifying take on a timeless story.
URL:https://www.washingtonpavilion.org/event/wiz/
LOCATION:Mary W. Sommervold Hall\, 301 S. Main Ave\, Sioux Falls\, SD\, 57104\, United States
CATEGORIES:Broadway
ATTACH;FMTTYPE=image/jpeg:https://www.washingtonpavilion.org/wp-content/uploads/2026/03/THE-WIZ-Show-Cover.jpg
END:VEVENT
BEGIN:VEVENT
DTSTART;VALUE=DATE:20270429
DTEND;VALUE=DATE:20270503
DTSTAMP:20260422T014439
CREATED:20260330T135640Z
LAST-MODIFIED:20260409T180419Z
UID:10000220-1808956800-1809302399@www.washingtonpavilion.org
SUMMARY:A BEAUTIFUL NOISE: THE NEIL DIAMOND MUSICAL
DESCRIPTION:THE UNTOLD TRUE STORY OF A BROOKLYN KID WHO BECAME A CHART-BUSTING\, SHOW-STOPPING\, AWARD-WINNING AMERICAN ICON \nCreated in collaboration with Neil Diamond himself\, A BEAUTIFUL NOISE is the uplifting true story of how a kid from Brooklyn became a chart-busting\, show-stopping American rock icon. With 120 million albums sold\, a catalogue of classics like “America\,” “Forever in Blue Jeans\,” and “Sweet Caroline\,” an induction into the Songwriters and Rock and Roll Halls of Fame\, a Grammy® Lifetime Achievement Award\, and sold-out concerts around the world that made him bigger than Elvis\, Neil Diamond’s story was made to shine on Broadway-and head out on the road across America. \nLike Jersey Boys and Beautiful: The Carole King Musical before it\, A BEAUTIFUL NOISE: THE NEIL DIAMOND MUSICAL is an inspiring\, exhilarating\, energy-filled musical memoir that tells the untold true story of how America’s greatest hitmaker became a star\, set to the songs that defined his career.
URL:https://www.washingtonpavilion.org/event/a-beautiful-noise-the-neil-diamond-musical/
LOCATION:Mary W. Sommervold Hall\, 301 S. Main Ave\, Sioux Falls\, SD\, 57104\, United States
CATEGORIES:Broadway,Musical
ATTACH;FMTTYPE=image/jpeg:https://www.washingtonpavilion.org/wp-content/uploads/2026/03/A-BEAUTIFUL-NOISE-Show-Cover.jpg
END:VEVENT
END:VCALENDAR