BEGIN:VCALENDAR
VERSION:2.0
PRODID:-//Washington Pavilion - ECPv6.15.15//NONSGML v1.0//EN
CALSCALE:GREGORIAN
METHOD:PUBLISH
X-ORIGINAL-URL:https://www.washingtonpavilion.org
X-WR-CALDESC:Events for Washington Pavilion
REFRESH-INTERVAL;VALUE=DURATION:PT1H
X-Robots-Tag:noindex
X-PUBLISHED-TTL:PT1H
BEGIN:VTIMEZONE
TZID:America/Chicago
BEGIN:DAYLIGHT
TZOFFSETFROM:-0600
TZOFFSETTO:-0500
TZNAME:CDT
DTSTART:20260308T080000
END:DAYLIGHT
BEGIN:STANDARD
TZOFFSETFROM:-0500
TZOFFSETTO:-0600
TZNAME:CST
DTSTART:20261101T070000
END:STANDARD
BEGIN:DAYLIGHT
TZOFFSETFROM:-0600
TZOFFSETTO:-0500
TZNAME:CDT
DTSTART:20270314T080000
END:DAYLIGHT
BEGIN:STANDARD
TZOFFSETFROM:-0500
TZOFFSETTO:-0600
TZNAME:CST
DTSTART:20271107T070000
END:STANDARD
BEGIN:DAYLIGHT
TZOFFSETFROM:-0600
TZOFFSETTO:-0500
TZNAME:CDT
DTSTART:20280312T080000
END:DAYLIGHT
BEGIN:STANDARD
TZOFFSETFROM:-0500
TZOFFSETTO:-0600
TZNAME:CST
DTSTART:20281105T070000
END:STANDARD
END:VTIMEZONE
BEGIN:VTIMEZONE
TZID:UTC
BEGIN:STANDARD
TZOFFSETFROM:+0000
TZOFFSETTO:+0000
TZNAME:UTC
DTSTART:20260101T000000
END:STANDARD
END:VTIMEZONE
BEGIN:VEVENT
DTSTART;VALUE=DATE:20270219
DTEND;VALUE=DATE:20270222
DTSTAMP:20260422T000113
CREATED:20260330T135710Z
LAST-MODIFIED:20260409T180350Z
UID:10000218-1802995200-1803254399@www.washingtonpavilion.org
SUMMARY:SHUCKED
DESCRIPTION:Maizy and Beau are getting hitched\, when the corn that protects their small community starts to die. The town needs answers. But who will dare to venture beyond the borders of Cob County? \nIncluding the knockout songs ‘Woman of the World’\, ‘Somebody Will’ and ‘Independently Owned’\, this Broadway hit about an unlikely hero\, an unscrupulous con artist\, and a battle for the heart and soil of a small town\, is not to be missed.
URL:https://www.washingtonpavilion.org/event/shucked/
LOCATION:Mary W. Sommervold Hall\, 301 S. Main Ave\, Sioux Falls\, SD\, 57104\, United States
CATEGORIES:Broadway,Comedy
ATTACH;FMTTYPE=image/jpeg:https://www.washingtonpavilion.org/wp-content/uploads/2026/03/SHUCKED-Show-Cover.jpg
END:VEVENT
BEGIN:VEVENT
DTSTART;VALUE=DATE:20270320
DTEND;VALUE=DATE:20270321
DTSTAMP:20260422T000113
CREATED:20260330T160054Z
LAST-MODIFIED:20260330T161002Z
UID:10000229-1805500800-1805587199@www.washingtonpavilion.org
SUMMARY:MARK TWAIN TONIGHT!
DESCRIPTION:Emmy-Award® winning Actor and 2025 Theater Hall of Fame Inductee Richard Thomas brings to life “the nation’s one true comic genius” (The New York Times) in Mark Twain Tonight!\, written and originally performed by Hal Holbrook. Join the millions who have cheered for the legendary one-man show\, bursting with Twain’s “uproariously funny” and “pungently wise” (Time Magazine) humor. \nMost recently seen on Broadway in Our Town\, on tour as Atticus Finch in To Kill a Mockingbird\, and on Netflix’s Ozark\, Richard Thomas will return to Broadway in Spring 2026 in David Lindsay-Abaire’s The Balusters\, directed by Kenny Leon. Beloved to generations as John-Boy Walton\, Richard Thomas is the first and only actor authorized to perform Mark Twain Tonight! since the original.
URL:https://www.washingtonpavilion.org/event/mark-twain-tonight/
LOCATION:SD
CATEGORIES:Broadway
ATTACH;FMTTYPE=image/jpeg:https://www.washingtonpavilion.org/wp-content/uploads/2026/03/MARK-TWAIN-TONIGHT_Cover.jpg
END:VEVENT
BEGIN:VEVENT
DTSTART;VALUE=DATE:20270403
DTEND;VALUE=DATE:20270405
DTSTAMP:20260422T000113
CREATED:20260330T135655Z
LAST-MODIFIED:20260409T180443Z
UID:10000219-1806710400-1806883199@www.washingtonpavilion.org
SUMMARY:THE WIZ
DESCRIPTION:A bold reimagining of a classic\, The Wiz brings Dorothy’s journey to life with dazzling music\, dynamic choreography and a powerful celebration of self-discovery. Featuring iconic songs and a vibrant theatrical style\, this production blends soul\, pop and Broadway spectacle. \nThis nationally touring Broadway production arrives for a limited run in April\, offering audiences a fresh and electrifying take on a timeless story.
URL:https://www.washingtonpavilion.org/event/wiz/
LOCATION:Mary W. Sommervold Hall\, 301 S. Main Ave\, Sioux Falls\, SD\, 57104\, United States
CATEGORIES:Broadway
ATTACH;FMTTYPE=image/jpeg:https://www.washingtonpavilion.org/wp-content/uploads/2026/03/THE-WIZ-Show-Cover.jpg
END:VEVENT
BEGIN:VEVENT
DTSTART;VALUE=DATE:20270429
DTEND;VALUE=DATE:20270503
DTSTAMP:20260422T000113
CREATED:20260330T135640Z
LAST-MODIFIED:20260409T180419Z
UID:10000220-1808956800-1809302399@www.washingtonpavilion.org
SUMMARY:A BEAUTIFUL NOISE: THE NEIL DIAMOND MUSICAL
DESCRIPTION:THE UNTOLD TRUE STORY OF A BROOKLYN KID WHO BECAME A CHART-BUSTING\, SHOW-STOPPING\, AWARD-WINNING AMERICAN ICON \nCreated in collaboration with Neil Diamond himself\, A BEAUTIFUL NOISE is the uplifting true story of how a kid from Brooklyn became a chart-busting\, show-stopping American rock icon. With 120 million albums sold\, a catalogue of classics like “America\,” “Forever in Blue Jeans\,” and “Sweet Caroline\,” an induction into the Songwriters and Rock and Roll Halls of Fame\, a Grammy® Lifetime Achievement Award\, and sold-out concerts around the world that made him bigger than Elvis\, Neil Diamond’s story was made to shine on Broadway-and head out on the road across America. \nLike Jersey Boys and Beautiful: The Carole King Musical before it\, A BEAUTIFUL NOISE: THE NEIL DIAMOND MUSICAL is an inspiring\, exhilarating\, energy-filled musical memoir that tells the untold true story of how America’s greatest hitmaker became a star\, set to the songs that defined his career.
URL:https://www.washingtonpavilion.org/event/a-beautiful-noise-the-neil-diamond-musical/
LOCATION:Mary W. Sommervold Hall\, 301 S. Main Ave\, Sioux Falls\, SD\, 57104\, United States
CATEGORIES:Broadway,Musical
ATTACH;FMTTYPE=image/jpeg:https://www.washingtonpavilion.org/wp-content/uploads/2026/03/A-BEAUTIFUL-NOISE-Show-Cover.jpg
END:VEVENT
END:VCALENDAR